BEGIN:VCALENDAR
VERSION:2.0
PRODID:-//Płocka Galeria Sztuki - ECPv5.12.0//NONSGML v1.0//EN
CALSCALE:GREGORIAN
METHOD:PUBLISH
X-WR-CALNAME:Płocka Galeria Sztuki
X-ORIGINAL-URL:https://plockagaleria.pl
X-WR-CALDESC:Wydarzenia dla Płocka Galeria Sztuki
REFRESH-INTERVAL;VALUE=DURATION:PT1H
X-Robots-Tag:noindex
X-PUBLISHED-TTL:PT1H
BEGIN:VTIMEZONE
TZID:Europe/Warsaw
BEGIN:DAYLIGHT
TZOFFSETFROM:+0100
TZOFFSETTO:+0200
TZNAME:CEST
DTSTART:20260329T010000
END:DAYLIGHT
BEGIN:STANDARD
TZOFFSETFROM:+0200
TZOFFSETTO:+0100
TZNAME:CET
DTSTART:20261025T010000
END:STANDARD
END:VTIMEZONE
BEGIN:VEVENT
DTSTART;TZID=Europe/Warsaw:20260423T170000
DTEND;TZID=Europe/Warsaw:20260423T180000
DTSTAMP:20260422T120757
CREATED:20260317T160211Z
LAST-MODIFIED:20260317T160211Z
UID:6787-1776963600-1776967200@plockagaleria.pl
SUMMARY:Oprowadzanie po wystawie malarstwa Wojciecha Ledera „Rozważania na inny dzień”
DESCRIPTION:Płocka Galeria Sztuki zaprasza na oprowadzanie z przewodnikiem\, który przybliży koncepcję wystawy\, opowie o wybranych pracach\, a także postara się udzielić odpowiedzi na pytania zwiedzających.  \n*Wejście na oprowadzanie w cenie biletu wstępu.  
URL:https://plockagaleria.pl/wydarzenie/oprowadzanie-po-wystawie-malarstwa-wojciecha-ledera-rozwazania-na-inny-dzien/
LOCATION:Płocka Galeria Sztuki\, Henryka Sienkiewicza 36\, Płock\, 09-400\, Poland
CATEGORIES:Oprowadzanie
ATTACH;FMTTYPE=image/jpeg:https://plockagaleria.pl/wp-content/uploads/2026/01/5.-12.02.2026-–-oprowadzanie-po-wystawie-Slady-i-Znaki-–-malarstwo-Aborygenow-z-Australii-Centralnej-scaled.jpg
ORGANIZER;CN="P%C5%82ocka%20Galeria%20Sztuki":MAILTO:biuro@plockagaleria.pl
END:VEVENT
BEGIN:VEVENT
DTSTART;TZID=Europe/Warsaw:20260424T153000
DTEND;TZID=Europe/Warsaw:20260424T173000
DTSTAMP:20260422T120757
CREATED:20260317T160459Z
LAST-MODIFIED:20260317T160941Z
UID:6789-1777044600-1777051800@plockagaleria.pl
SUMMARY:Warsztaty plastyczne - „Rozmazane pędzlem” (10+)
DESCRIPTION:Tematem kolejnego spotkanie z cyklu „Sztuka artystycznego wyrazu”\, dofinansowanego ze środków Gminy – Miasto Płock\, będzie akwarela – technika malarska wykorzystująca rozpuszczalne w wodzie\, transparentne pigmenty nakładane na papier. Osoby biorące udział w zajęciach stworzą prace w podstawowych technikach akwarelowych: „mokre na mokre” (rozmyte\, płynne przejścia) i „mokre na suche” (precyzyjne\, ostre krawędzie). Poznając różne typy pejzażu\, wykonają pracę malarską zwiastującą wiosnę\, spróbują uchwycić moment przebudzenia się przyrody\, kontrastu między odchodzącą zimą a przedwiośniem. Wiosenne motywy w sztuce charakteryzują się żywymi barwami: żółcią\, soczystą zielenią\, różem i fioletem.  \n*Warsztaty poprowadzi Laura Dyczko.\n*Wstęp wolny\, jednak obowiązują wcześniejsze zapisy: tel. 24 366 43 23 lube-mail: karolina.boruszewska@plockagaleria.pl.
URL:https://plockagaleria.pl/wydarzenie/warsztaty-plastyczne-sztuka-artystycznego-wyrazu-10/
LOCATION:Płocka Galeria Sztuki\, Henryka Sienkiewicza 36\, Płock\, 09-400\, Poland
CATEGORIES:Warsztaty
ATTACH;FMTTYPE=image/jpeg:https://plockagaleria.pl/wp-content/uploads/2024/09/22.10-warsztaty.jpg
ORGANIZER;CN="P%C5%82ocka%20Galeria%20Sztuki":MAILTO:biuro@plockagaleria.pl
END:VEVENT
BEGIN:VEVENT
DTSTART;TZID=Europe/Warsaw:20260429T130000
DTEND;TZID=Europe/Warsaw:20260429T140000
DTSTAMP:20260422T120757
CREATED:20260317T160910Z
LAST-MODIFIED:20260317T160910Z
UID:6793-1777467600-1777471200@plockagaleria.pl
SUMMARY:Wykład „Gerard Richter. Przekraczając granice fotografii i malarstwa...” (15+)
DESCRIPTION:Płocka Galeria Sztuki zaprasza na nowy cykl wykładów „POZA RAMY”\, poświęcony wielowymiarowemu światu malarstwa. Podczas spotkań przyjrzymy się różnorodnym technikom malarskim oraz głównym tendencjom\, które na przestrzeni wieków kształtowały tę dziedzinę sztuki. Będziemy analizować pociągnięcia pędzla wybranych artystów\, odkrywając ich warsztat\, język wizualny oraz ukryte strategie twórcze. Każde dzieło potraktujemy jak zagadkę\, którą wspólnie rozłożymy na czynniki pierwsze\, by lepiej zrozumieć jego konstrukcję i emocjonalny ładunek.  \nKwietniowy wykład poświęcony będzie twórczości Gerharda Richtera (ur. w 1932 r.) – niemieckiego artysty\, twórcy sztuki abstrakcyjnej opartej na fotorealizmie\, fotografii oraz eksperymentach cyfrowych. Jego twórczość przekracza epoki i redefiniuje rolę obrazu jako archiwum\, lustra i narzędzia analizy. Richter łączy fotografię z technikami abstrakcyjnymi\, pracując jednocześnie w różnych stylach. Jego dorobek artystyczny obejmuje ponad sześć dekad\, w trakcie których konsekwentnie przesuwał granice sztuki współczesnej. Podczas wykładu\, na przykładzie wybranych dzieł\, omówione zostaną materiały i techniki\, z których korzysta artysta. Uczestnicy dowiedzą się również\, dlaczego Gerhard Richter rozmywa swoje obrazy. Wykład stanie się okazją do refleksji nad tym\, w jaki sposób współczesny artysta może łączyć klasyczne techniki z nowymi mediami\, tworząc sztukę trwającą w namyśle nad widzeniem\, pamięcią i prawdą.  \n*Wejście w cenie biletu wstępu.  \n 
URL:https://plockagaleria.pl/wydarzenie/wyklad-gerard-richter-przekraczajac-granice-fotografii-i-malarstwa-15/
LOCATION:Płocka Galeria Sztuki\, Henryka Sienkiewicza 36\, Płock\, 09-400\, Poland
CATEGORIES:Wykład
ATTACH;FMTTYPE=image/jpeg:https://plockagaleria.pl/wp-content/uploads/2026/02/11.03.2026_David-Hockney.-Od-slonecznej-Kalifornii-po-wiejskie-okolice-Normandii..._wyklad-scaled.jpg
ORGANIZER;CN="P%C5%82ocka%20Galeria%20Sztuki":MAILTO:biuro@plockagaleria.pl
END:VEVENT
END:VCALENDAR